BEGIN:VCALENDAR
VERSION:2.0
PRODID:-//Tukios.com/
BEGIN:VEVENT
UID:a153f886-0c48-4f66-991e-2025131adade@www.crandellfh.com
DTSTAMP:20260424T171355Z
DTSTART:20260426T143000Z
DTEND:20260426T160000Z
SUMMARY:Visitation
DESCRIPTION:
URL:https://www.crandellfh.com/obituaries/carolyn-lambert
LOCATION: 1109 Court St  White Cloud MI 49349
GEO:43.5516471;-85.7740733
END:VEVENT
END:VCALENDAR