BEGIN:VCALENDAR
VERSION:2.0
PRODID:-//Tukios.com/
BEGIN:VEVENT
UID:8261bfce-5a3b-42e9-ba8a-81c3fa3040e6@www.crandellfh.com
DTSTAMP:20260424T171508Z
DTSTART:20260426T160000Z
DTEND:20260426T170000Z
SUMMARY:Funeral Service
DESCRIPTION:
URL:https://www.crandellfh.com/obituaries/carolyn-lambert
LOCATION: 1109 Court St  White Cloud MI 49349
GEO:43.5516471;-85.7740733
END:VEVENT
END:VCALENDAR