BEGIN:VCALENDAR
VERSION:2.0
PRODID:-//Tukios.com/
BEGIN:VEVENT
UID:779aa77a-d3a9-41f3-9fdc-ece295d8ebcc@www.crandellfh.com
DTSTAMP:20260424T171508Z
DTSTART:20260426T173000Z
DTEND:20260426T183000Z
SUMMARY:Graveside Service
DESCRIPTION:
URL:https://www.crandellfh.com/obituaries/carolyn-lambert
LOCATION: 2465 North Cypress Avenue  White Cloud MI 49349
GEO:43.599906;-85.622315
END:VEVENT
END:VCALENDAR