BEGIN:VCALENDAR
VERSION:2.0
PRODID:-//Tukios.com/
BEGIN:VEVENT
UID:8960a7a7-072c-47b9-a6f8-2c7842468207@www.crandellfh.com
DTSTAMP:20260421T180414Z
DTSTART:20260424T150000Z
DTEND:20260424T160000Z
SUMMARY:Memorial Service
DESCRIPTION:
URL:https://www.crandellfh.com/obituaries/gary-lobdell
LOCATION:Fellowship Christian Reformed Church 407 Perry Avenue  Big 
	Rapids MI 49307
GEO:43.6873474;-85.4894448
END:VEVENT
END:VCALENDAR