BEGIN:VCALENDAR
VERSION:2.0
PRODID:-//Tukios.com/
BEGIN:VEVENT
UID:97b20ff3-e7ce-4cef-8ed8-e756f066a7a9@www.crandellfh.com
DTSTAMP:20260421T180408Z
DTSTART:20260425T150000Z
DTEND:20260425T160000Z
SUMMARY:Burial
DESCRIPTION:
URL:https://www.crandellfh.com/obituaries/gary-lobdell
LOCATION:Maple Grove Cemetery 804 South Division Avenue  Fremont MI 49412
GEO:43.4602218;-85.9449705
END:VEVENT
END:VCALENDAR