BEGIN:VCALENDAR
VERSION:2.0
PRODID:-//Tukios.com/
BEGIN:VEVENT
UID:a5b1eb20-f896-462a-b5d9-d6fe08aad07c@www.crandellfh.com
DTSTAMP:20260421T180545Z
DTSTART:20260424T140000Z
DTEND:20260424T150000Z
SUMMARY:Visitation
DESCRIPTION:
URL:https://www.crandellfh.com/obituaries/gary-lobdell
LOCATION:Fellowship Christian Reformed Church 407 Perry Ave  Big Rapids 
	MI 49307
GEO:43.6873543;-85.4893145
END:VEVENT
END:VCALENDAR