BEGIN:VCALENDAR
VERSION:2.0
PRODID:-//Tukios.com/
BEGIN:VEVENT
UID:5d74b352-c593-4471-a725-14be3224b9a9@www.crandellfh.com
DTSTAMP:20260423T083539Z
DTSTART:20260509T150000Z
DTEND:20260509T160000Z
SUMMARY:Celebration of Life
DESCRIPTION:
URL:https://www.crandellfh.com/obituaries/leona-ames-walch
LOCATION: 918 Garden Avenue  Fremont MI 49412
GEO:43.4583814;-85.9361287
END:VEVENT
END:VCALENDAR